BEGIN:VCALENDAR
VERSION:2.0
PRODID:-//Stichting Oranjebroek - ECPv6.15.20//NONSGML v1.0//EN
CALSCALE:GREGORIAN
METHOD:PUBLISH
X-ORIGINAL-URL:https://oranjebroek.nl
X-WR-CALDESC:Evenementen voor Stichting Oranjebroek
REFRESH-INTERVAL;VALUE=DURATION:PT1H
X-Robots-Tag:noindex
X-PUBLISHED-TTL:PT1H
BEGIN:VTIMEZONE
TZID:Europe/Amsterdam
BEGIN:DAYLIGHT
TZOFFSETFROM:+0100
TZOFFSETTO:+0200
TZNAME:CEST
DTSTART:20240331T010000
END:DAYLIGHT
BEGIN:STANDARD
TZOFFSETFROM:+0200
TZOFFSETTO:+0100
TZNAME:CET
DTSTART:20241027T010000
END:STANDARD
BEGIN:DAYLIGHT
TZOFFSETFROM:+0100
TZOFFSETTO:+0200
TZNAME:CEST
DTSTART:20250330T010000
END:DAYLIGHT
BEGIN:STANDARD
TZOFFSETFROM:+0200
TZOFFSETTO:+0100
TZNAME:CET
DTSTART:20251026T010000
END:STANDARD
BEGIN:DAYLIGHT
TZOFFSETFROM:+0100
TZOFFSETTO:+0200
TZNAME:CEST
DTSTART:20260329T010000
END:DAYLIGHT
BEGIN:STANDARD
TZOFFSETFROM:+0200
TZOFFSETTO:+0100
TZNAME:CET
DTSTART:20261025T010000
END:STANDARD
END:VTIMEZONE
BEGIN:VEVENT
DTSTART;VALUE=DATE:20251128
DTEND;VALUE=DATE:20251129
DTSTAMP:20260420T141933
CREATED:20250414T070613Z
LAST-MODIFIED:20250418T200522Z
UID:658-1764288000-1764374399@oranjebroek.nl
SUMMARY:Winterbingo
DESCRIPTION:
URL:https://oranjebroek.nl/event/winterbingo/
LOCATION:Dorpshuis\, Kerkplein\, 7\, Zuid-Holland\, 3216AK
ATTACH;FMTTYPE=image/jpeg:https://oranjebroek.nl/wp-content/uploads/2024/12/bingo.jpg
ORGANIZER;CN="Stichting Oranjebroek":MAILTO:afactor@oranjebroek.nl
END:VEVENT
BEGIN:VEVENT
DTSTART;VALUE=DATE:20251122
DTEND;VALUE=DATE:20251123
DTSTAMP:20260420T141933
CREATED:20250414T070520Z
LAST-MODIFIED:20250418T200845Z
UID:656-1763769600-1763855999@oranjebroek.nl
SUMMARY:Sinterklaas
DESCRIPTION:
URL:https://oranjebroek.nl/event/sinterklaas/
LOCATION:Dorpshuis\, Kerkplein\, 7\, Zuid-Holland\, 3216AK
ATTACH;FMTTYPE=image/jpeg:https://oranjebroek.nl/wp-content/uploads/2024/12/Sinterklaas-edited.jpg
ORGANIZER;CN="Stichting Oranjebroek":MAILTO:afactor@oranjebroek.nl
END:VEVENT
BEGIN:VEVENT
DTSTART;VALUE=DATE:20251025
DTEND;VALUE=DATE:20251026
DTSTAMP:20260420T141933
CREATED:20250414T070441Z
LAST-MODIFIED:20250418T200703Z
UID:654-1761350400-1761436799@oranjebroek.nl
SUMMARY:Halloween
DESCRIPTION:
URL:https://oranjebroek.nl/event/halloween/
LOCATION:Dorpshuis\, Kerkplein\, 7\, Zuid-Holland\, 3216AK
ATTACH;FMTTYPE=image/jpeg:https://oranjebroek.nl/wp-content/uploads/2024/12/halloween-2-edited.jpg
END:VEVENT
BEGIN:VEVENT
DTSTART;TZID=Europe/Amsterdam:20251010T200000
DTEND;TZID=Europe/Amsterdam:20251010T230000
DTSTAMP:20260420T141933
CREATED:20250414T070342Z
LAST-MODIFIED:20250414T070342Z
UID:652-1760126400-1760137200@oranjebroek.nl
SUMMARY:Herfstbingo
DESCRIPTION:
URL:https://oranjebroek.nl/event/herfstbingo/
LOCATION:Dorpshuis\, Kerkplein\, 7\, Zuid-Holland\, 3216AK
END:VEVENT
BEGIN:VEVENT
DTSTART;VALUE=DATE:20250830
DTEND;VALUE=DATE:20250831
DTSTAMP:20260420T141933
CREATED:20250414T070235Z
LAST-MODIFIED:20250414T070235Z
UID:649-1756512000-1756598399@oranjebroek.nl
SUMMARY:Zomerspelen
DESCRIPTION:
URL:https://oranjebroek.nl/event/zomerspelen/
LOCATION:Ring\, Abbenbroek\, Ring\, Abbenbroek\, 3216AS\, Netherlands
ORGANIZER;CN="Stichting Oranjebroek":MAILTO:afactor@oranjebroek.nl
END:VEVENT
BEGIN:VEVENT
DTSTART;TZID=Europe/Amsterdam:20250712T080000
DTEND;TZID=Europe/Amsterdam:20250712T170000
DTSTAMP:20260420T141933
CREATED:20250414T070109Z
LAST-MODIFIED:20250414T070109Z
UID:647-1752307200-1752339600@oranjebroek.nl
SUMMARY:Kinderbingo
DESCRIPTION:
URL:https://oranjebroek.nl/event/kinderbingo/
LOCATION:Dorpshuis\, Kerkplein\, 7\, Zuid-Holland\, 3216AK
ORGANIZER;CN="Stichting Oranjebroek":MAILTO:afactor@oranjebroek.nl
END:VEVENT
BEGIN:VEVENT
DTSTART;TZID=Europe/Amsterdam:20250426T110000
DTEND;TZID=Europe/Amsterdam:20250426T200000
DTSTAMP:20260420T141933
CREATED:20250407T190327Z
LAST-MODIFIED:20250407T190327Z
UID:539-1745665200-1745697600@oranjebroek.nl
SUMMARY:Koningsdag
DESCRIPTION:
URL:https://oranjebroek.nl/event/koningsdag/
LOCATION:Zuid-Holland
ORGANIZER;CN="Stichting Oranjebroek":MAILTO:afactor@oranjebroek.nl
END:VEVENT
BEGIN:VEVENT
DTSTART;TZID=Europe/Amsterdam:20250425T183000
DTEND;TZID=Europe/Amsterdam:20250425T220000
DTSTAMP:20260420T141933
CREATED:20250407T190053Z
LAST-MODIFIED:20250418T200627Z
UID:535-1745605800-1745618400@oranjebroek.nl
SUMMARY:A-Factor
DESCRIPTION:
URL:https://oranjebroek.nl/event/a-factor/
LOCATION:Dorpshuis\, Kerkplein\, 7\, Zuid-Holland\, 3216AK
ATTACH;FMTTYPE=image/jpeg:https://oranjebroek.nl/wp-content/uploads/2025/01/afactor-edited-1.jpg
ORGANIZER;CN="Stichting Oranjebroek":MAILTO:afactor@oranjebroek.nl
END:VEVENT
END:VCALENDAR